BEGIN:VCALENDAR
VERSION:2.0
PRODID:-//Cotswold Herb Centre - ECPv6.15.20//NONSGML v1.0//EN
CALSCALE:GREGORIAN
METHOD:PUBLISH
X-WR-CALNAME:Cotswold Herb Centre
X-ORIGINAL-URL:https://cotswoldherbcentre.uk
X-WR-CALDESC:Events for Cotswold Herb Centre
REFRESH-INTERVAL;VALUE=DURATION:PT1H
X-Robots-Tag:noindex
X-PUBLISHED-TTL:PT1H
BEGIN:VTIMEZONE
TZID:UTC
BEGIN:STANDARD
TZOFFSETFROM:+0000
TZOFFSETTO:+0000
TZNAME:UTC
DTSTART:20250101T000000
END:STANDARD
END:VTIMEZONE
BEGIN:VEVENT
DTSTART;TZID=UTC:20260421T140000
DTEND;TZID=UTC:20260421T170000
DTSTAMP:20260421T092634
CREATED:20260329T190029Z
LAST-MODIFIED:20260329T190029Z
UID:3849-1776780000-1776790800@cotswoldherbcentre.uk
SUMMARY:NGS Open Gardens - Wortley House
DESCRIPTION:
URL:https://cotswoldherbcentre.uk/event/ngs-open-gardens-wortley-house
LOCATION:Wortley House\, Wotton under Edge\, GL12 7QP
CATEGORIES:Open Day
END:VEVENT
END:VCALENDAR