BEGIN:VCALENDAR
VERSION:2.0
PRODID:-//Cotswold Herb Centre - ECPv6.15.20//NONSGML v1.0//EN
CALSCALE:GREGORIAN
METHOD:PUBLISH
X-WR-CALNAME:Cotswold Herb Centre
X-ORIGINAL-URL:https://cotswoldherbcentre.uk
X-WR-CALDESC:Events for Cotswold Herb Centre
REFRESH-INTERVAL;VALUE=DURATION:PT1H
X-Robots-Tag:noindex
X-PUBLISHED-TTL:PT1H
BEGIN:VTIMEZONE
TZID:UTC
BEGIN:STANDARD
TZOFFSETFROM:+0000
TZOFFSETTO:+0000
TZNAME:UTC
DTSTART:20240101T000000
END:STANDARD
END:VTIMEZONE
BEGIN:VEVENT
DTSTART;TZID=UTC:20251205T100000
DTEND;TZID=UTC:20251207T170000
DTSTAMP:20260425T144025
CREATED:20251030T110210Z
LAST-MODIFIED:20251030T110210Z
UID:3304-1764928800-1765126800@cotswoldherbcentre.uk
SUMMARY:Christmas Markets at Over Farm
DESCRIPTION:
URL:https://cotswoldherbcentre.uk/event/christmas-markets-at-over-farm-2
LOCATION:Over Farm
CATEGORIES:Market
END:VEVENT
BEGIN:VEVENT
DTSTART;TZID=UTC:20251205T180000
DTEND;TZID=UTC:20251205T210000
DTSTAMP:20260425T144025
CREATED:20251030T093625Z
LAST-MODIFIED:20251030T093625Z
UID:3218-1764957600-1764968400@cotswoldherbcentre.uk
SUMMARY:Stroud Goodwill Evening
DESCRIPTION:
URL:https://cotswoldherbcentre.uk/event/stroud-goodwill-evening
LOCATION:Stroud Town Centre
CATEGORIES:Market
END:VEVENT
END:VCALENDAR