BEGIN:VCALENDAR
VERSION:2.0
PRODID:-//Cotswold Herb Centre - ECPv6.15.20//NONSGML v1.0//EN
CALSCALE:GREGORIAN
METHOD:PUBLISH
X-WR-CALNAME:Cotswold Herb Centre
X-ORIGINAL-URL:https://cotswoldherbcentre.uk
X-WR-CALDESC:Events for Cotswold Herb Centre
REFRESH-INTERVAL;VALUE=DURATION:PT1H
X-Robots-Tag:noindex
X-PUBLISHED-TTL:PT1H
BEGIN:VTIMEZONE
TZID:UTC
BEGIN:STANDARD
TZOFFSETFROM:+0000
TZOFFSETTO:+0000
TZNAME:UTC
DTSTART:20240101T000000
END:STANDARD
END:VTIMEZONE
BEGIN:VEVENT
DTSTART;TZID=UTC:20251220T090000
DTEND;TZID=UTC:20251220T130000
DTSTAMP:20260425T144029
CREATED:20251030T094601Z
LAST-MODIFIED:20251030T094601Z
UID:3244-1766221200-1766235600@cotswoldherbcentre.uk
SUMMARY:Stroud Christmas Farmers' Market
DESCRIPTION:
URL:https://cotswoldherbcentre.uk/event/stroud-christmas-farmers-market
LOCATION:Cornhill Market Place\, Cornhill\, Stroud\, GL5
CATEGORIES:Market
END:VEVENT
END:VCALENDAR