BEGIN:VCALENDAR
VERSION:2.0
PRODID:-//Cotswold Herb Centre - ECPv6.15.20//NONSGML v1.0//EN
CALSCALE:GREGORIAN
METHOD:PUBLISH
X-WR-CALNAME:Cotswold Herb Centre
X-ORIGINAL-URL:https://cotswoldherbcentre.uk
X-WR-CALDESC:Events for Cotswold Herb Centre
REFRESH-INTERVAL;VALUE=DURATION:PT1H
X-Robots-Tag:noindex
X-PUBLISHED-TTL:PT1H
BEGIN:VTIMEZONE
TZID:UTC
BEGIN:STANDARD
TZOFFSETFROM:+0000
TZOFFSETTO:+0000
TZNAME:UTC
DTSTART:20250101T000000
END:STANDARD
END:VTIMEZONE
BEGIN:VEVENT
DTSTART;TZID=UTC:20260314T100000
DTEND;TZID=UTC:20260314T130000
DTSTAMP:20260421T083903
CREATED:20260302T201348Z
LAST-MODIFIED:20260302T201348Z
UID:3732-1773482400-1773493200@cotswoldherbcentre.uk
SUMMARY:Nailsworth Artisan Market
DESCRIPTION:
URL:https://cotswoldherbcentre.uk/event/nailsworth-artisan-market-7
LOCATION:The Mortimer Gardens\, 17 Fountain Street\, Nailsworth\, GL6 0BL
CATEGORIES:Market
END:VEVENT
BEGIN:VEVENT
DTSTART;TZID=UTC:20260314T100000
DTEND;TZID=UTC:20260314T130000
DTSTAMP:20260421T083903
CREATED:20260302T201422Z
LAST-MODIFIED:20260302T201439Z
UID:3734-1773482400-1773493200@cotswoldherbcentre.uk
SUMMARY:Stonehouse Saturday Stalls Indoor Market
DESCRIPTION:
URL:https://cotswoldherbcentre.uk/event/stonehouse-saturday-stalls-indoor-market-5
LOCATION:Stonehouse Community Centre\, GL10 2NS
CATEGORIES:Market
END:VEVENT
BEGIN:VEVENT
DTSTART;TZID=UTC:20260314T100000
DTEND;TZID=UTC:20260314T130000
DTSTAMP:20260421T083903
CREATED:20260302T201528Z
LAST-MODIFIED:20260302T201528Z
UID:3736-1773482400-1773493200@cotswoldherbcentre.uk
SUMMARY:Mortimer Room Market
DESCRIPTION:
URL:https://cotswoldherbcentre.uk/event/mortimer-room-market-4
LOCATION:Mortimer Room\, Nailsworth Civic Centre\, Nailsworth\, GL6 0DU
CATEGORIES:Market
END:VEVENT
END:VCALENDAR