BEGIN:VCALENDAR
VERSION:2.0
PRODID:-//Cotswold Herb Centre - ECPv6.15.20//NONSGML v1.0//EN
CALSCALE:GREGORIAN
METHOD:PUBLISH
X-ORIGINAL-URL:https://cotswoldherbcentre.uk
X-WR-CALDESC:Events for Cotswold Herb Centre
REFRESH-INTERVAL;VALUE=DURATION:PT1H
X-Robots-Tag:noindex
X-PUBLISHED-TTL:PT1H
BEGIN:VTIMEZONE
TZID:UTC
BEGIN:STANDARD
TZOFFSETFROM:+0000
TZOFFSETTO:+0000
TZNAME:UTC
DTSTART:20250101T000000
END:STANDARD
END:VTIMEZONE
BEGIN:VEVENT
DTSTART;TZID=UTC:20260329T090000
DTEND;TZID=UTC:20260329T150000
DTSTAMP:20260425T102703
CREATED:20260329T190652Z
LAST-MODIFIED:20260329T190652Z
UID:3858-1774774800-1774796400@cotswoldherbcentre.uk
SUMMARY:Stroud Arts and Crafts
DESCRIPTION:
URL:https://cotswoldherbcentre.uk/event/stroud-arts-and-crafts
LOCATION:The Baptist Hall\, Union St\, Stroud\, GL2 2HA
CATEGORIES:Market
END:VEVENT
BEGIN:VEVENT
DTSTART;TZID=UTC:20260329T100000
DTEND;TZID=UTC:20260329T150000
DTSTAMP:20260425T102703
CREATED:20260302T202226Z
LAST-MODIFIED:20260302T202226Z
UID:3751-1774778400-1774796400@cotswoldherbcentre.uk
SUMMARY:Saxon Barn Market
DESCRIPTION:
URL:https://cotswoldherbcentre.uk/event/saxon-barn-market-7
LOCATION:Saxon Barn\, Leonard Stanley\, GL10 3NP
CATEGORIES:Market
END:VEVENT
END:VCALENDAR